BEGIN:VCALENDAR
VERSION:2.0
PRODID:spatie/icalendar-generator
DESCRIPTION:Events from Kenl Inn
X-WR-CALDESC:Events from Kenl Inn
REFRESH-INTERVAL;VALUE=DURATION:PT1440M
X-PUBLISHED-TTL:PT1440M
BEGIN:VTIMEZONE
TZID:Etc/GMT+0
BEGIN:STANDARD
DTSTART:20250710T191500Z
TZOFFSETFROM:+0000
TZOFFSETTO:+0000
END:STANDARD
END:VTIMEZONE
BEGIN:VTIMEZONE
TZID:UTC
BEGIN:STANDARD
DTSTART:20250723T130942Z
TZOFFSETFROM:+0000
TZOFFSETTO:+0000
END:STANDARD
END:VTIMEZONE
BEGIN:VEVENT
UID:456-351
DTSTAMP:20260419T130942Z
SUMMARY:Beginner Agility - Week 2
LOCATION:
ORGANIZER;CN=kiadmin:MAILTO:bill@kenl-inn.com
DTSTART;TZID=Etc/GMT+0:20260406T191500
DTEND;TZID=Etc/GMT+0:20260406T201500
X-ALT-DESC;FMTTYPE=TEXT/HTML:
CATEGORIES:Training
URL;VALUE=URI:https://www.kenl-inn.com/mc-events/beginner-agility-week-2-2/
 ?mc_id=456
END:VEVENT
END:VCALENDAR