BEGIN:VCALENDAR
VERSION:2.0
PRODID:spatie/icalendar-generator
DESCRIPTION:Events from Kenl Inn
X-WR-CALDESC:Events from Kenl Inn
REFRESH-INTERVAL;VALUE=DURATION:PT1440M
X-PUBLISHED-TTL:PT1440M
BEGIN:VTIMEZONE
TZID:Etc/GMT+0
BEGIN:STANDARD
DTSTART:20250731T180000Z
TZOFFSETFROM:+0000
TZOFFSETTO:+0000
END:STANDARD
END:VTIMEZONE
BEGIN:VTIMEZONE
TZID:UTC
BEGIN:STANDARD
DTSTART:20250723T131056Z
TZOFFSETFROM:+0000
TZOFFSETTO:+0000
END:STANDARD
END:VTIMEZONE
BEGIN:VEVENT
UID:439-319
DTSTAMP:20260419T131056Z
SUMMARY:Just For Puppies - Week 5
LOCATION:
ORGANIZER;CN=kiadmin:MAILTO:bill@kenl-inn.com
DTSTART;TZID=Etc/GMT+0:20260427T180000
DTEND;TZID=Etc/GMT+0:20260427T190000
X-ALT-DESC;FMTTYPE=TEXT/HTML:
CATEGORIES:Training
URL;VALUE=URI:https://www.kenl-inn.com/mc-events/just-for-puppies-week-5-7/
 ?mc_id=439
END:VEVENT
END:VCALENDAR