BEGIN:VCALENDAR
VERSION:2.0
PRODID:spatie/icalendar-generator
DESCRIPTION:Events from Kenl Inn
X-WR-CALDESC:Events from Kenl Inn
REFRESH-INTERVAL;VALUE=DURATION:PT1440M
X-PUBLISHED-TTL:PT1440M
BEGIN:VTIMEZONE
TZID:Etc/GMT+0
BEGIN:STANDARD
DTSTART:20250718T191500Z
TZOFFSETFROM:+0000
TZOFFSETTO:+0000
END:STANDARD
END:VTIMEZONE
BEGIN:VTIMEZONE
TZID:UTC
BEGIN:STANDARD
DTSTART:20250723T161523Z
TZOFFSETFROM:+0000
TZOFFSETTO:+0000
END:STANDARD
END:VTIMEZONE
BEGIN:VEVENT
UID:391-307
DTSTAMP:20260419T161523Z
SUMMARY:Advanced Obedience - Week 3
LOCATION:
ORGANIZER;CN=kiadmin:MAILTO:bill@kenl-inn.com
DTSTART;TZID=Etc/GMT+0:20260414T191500
DTEND;TZID=Etc/GMT+0:20260414T201500
X-ALT-DESC;FMTTYPE=TEXT/HTML:
CATEGORIES:Training
URL;VALUE=URI:https://www.kenl-inn.com/mc-events/advanced-obedience-week-3-
 5/?mc_id=391
END:VEVENT
END:VCALENDAR