BEGIN:VCALENDAR
VERSION:2.0
PRODID:spatie/icalendar-generator
DESCRIPTION:Events from Kenl Inn
X-WR-CALDESC:Events from Kenl Inn
REFRESH-INTERVAL;VALUE=DURATION:PT1440M
X-PUBLISHED-TTL:PT1440M
BEGIN:VTIMEZONE
TZID:Etc/GMT+0
BEGIN:STANDARD
DTSTART:20250704T191500Z
TZOFFSETFROM:+0000
TZOFFSETTO:+0000
END:STANDARD
END:VTIMEZONE
BEGIN:VTIMEZONE
TZID:UTC
BEGIN:STANDARD
DTSTART:20250723T162453Z
TZOFFSETFROM:+0000
TZOFFSETTO:+0000
END:STANDARD
END:VTIMEZONE
BEGIN:VEVENT
UID:389-305
DTSTAMP:20260419T162453Z
SUMMARY:Advanced Obedience - Week 1
LOCATION:
ORGANIZER;CN=kiadmin:MAILTO:bill@kenl-inn.com
DTSTART;TZID=Etc/GMT+0:20260331T191500
DTEND;TZID=Etc/GMT+0:20260331T201500
X-ALT-DESC;FMTTYPE=TEXT/HTML:
CATEGORIES:Training
URL;VALUE=URI:https://www.kenl-inn.com/mc-events/advanced-obedience-week-1-
 5/?mc_id=389
END:VEVENT
END:VCALENDAR