BEGIN:VCALENDAR
VERSION:2.0
PRODID:spatie/icalendar-generator
DESCRIPTION:Events from Kenl Inn
X-WR-CALDESC:Events from Kenl Inn
REFRESH-INTERVAL;VALUE=DURATION:PT1440M
X-PUBLISHED-TTL:PT1440M
BEGIN:VTIMEZONE
TZID:Etc/GMT+0
BEGIN:STANDARD
DTSTART:20250711T180000Z
TZOFFSETFROM:+0000
TZOFFSETTO:+0000
END:STANDARD
END:VTIMEZONE
BEGIN:VTIMEZONE
TZID:UTC
BEGIN:STANDARD
DTSTART:20250723T161651Z
TZOFFSETFROM:+0000
TZOFFSETTO:+0000
END:STANDARD
END:VTIMEZONE
BEGIN:VEVENT
UID:385-301
DTSTAMP:20260419T161651Z
SUMMARY:Intermediate Obedience - Week 2
LOCATION:
ORGANIZER;CN=kiadmin:MAILTO:bill@kenl-inn.com
DTSTART;TZID=Etc/GMT+0:20260407T180000
DTEND;TZID=Etc/GMT+0:20260407T190000
X-ALT-DESC;FMTTYPE=TEXT/HTML:
CATEGORIES:Training
URL;VALUE=URI:https://www.kenl-inn.com/mc-events/intermediate-obedience-wee
 k-2-6/?mc_id=385
END:VEVENT
END:VCALENDAR